Workbook

Sheet Table 1 Water Stored
B2: Water in North Mine Area
B3: Location | C3: Estimated Volume at EOY 2030 (gallons)
B4: East Pit | C4: 740204439
B5: Estrella Pit | C5: 363542840
B6: Lee Hill Pit | C6: 0
B7: Reservoir 9 | C7: 2737148
B8: Reservoir 4a (Overflow Pond) | C8: 1368574
B9: Reservoir 2 (Overflow Pond) | C9: 684287
B10: Reservoir 17 | C10: 9149896
B11: Fleming Pond 2 | C11: =8400000*0.6 -> 5040000
B12: Frog Pond | C12: 1500000
B13: PLS Tank at Ivanhoe Concentrator | C13: 300000
B14: 5900 PLS Sump | C14: 299131
B15: Lee Hill Sump #1 | C15: 60000
B16: 5400 Sump | C16: 36000
B17: Tailings Thickener | C17: 6777710
B18: 6525 Raffinate Tank | C18: 80000
B19: South Stockpile | C19: 120700000
B20: Reservoir 6 | C20: 54580043
B21: Reservoir 7 | C21: 63201939
B22: Reservoir 8 | C22: 1955106
B23: SX/EW PLS Feed Pond | C23: 1260000
... B29: Lampbright Stockpile | C29: 350600000
B30: Total | C30: =SUM(C4:C29) -> 1.7284615e+09
B31: Rounded Total | C31: =MROUND(C30,100) -> 1728461500
B32: Water in South Mine Area
B33: Location | C33: Estimated Volume at EOY 2030 (gallons)
B34: Tailings Pond 7, Axiflo Lake, Elmo's Pond, and Lower Lined Pond | C34: 1.6149176e+08
B35: Volume estimates provided by Chino from GoldSim model

Sheet Table 2 StormwaterGroundwater
C2: South Mine Area Flows | F2: Interceptor Wells, Pit and Groundwater | J2: Facilities Runoff | P2: Waste Rock Stockpile Runoff/Seepage | Z2: Leach Stockpile Runoff/Seepage | AH2: Additional Information
C3: Continental Mine Inflows | D3: Tailings Pond 7 Interceptor Wells | F3: NMA Groundwater Interceptor Wells Princess Shaft Oswaldo Shaft and 6 Other Wells TBD Inflow | G3: Groundwater Inflows to Santa Rita Pit (5% not Captured) | H3: West Stockpile, Lambright, and Kessel Groundwater | I3: Sant Rita Open Pit Area Storm Water Run-Off | J3: Ivanhoe Concentrator Area | L3: Chino Offices and Shops Area | N3: SX/EW Area | P3: West Side of West Stockpile | R3: 3A, Reservoir 9, and Rustler Canyon Waste Rock Stockpiles | T3: Northeast Waste Rock Pile and Reservoir 5 South | V3: Southwest Lampbright Waste Rock Pile | X3: Kessel Stockpile | Z3: East Side of West Leach Stockpile | AB3: South Stockpile | AD3: North, Main, and South Lampbright Leach Stockpiles | AH3: Destination of Water | AI3: South Circuit Flowrate | AJ3: Lampbright Circuit Flowrate | AK3: Tailing Pond 7 Flowrate | AL3: Acreage Remediated | AM3: Total Flow to Evaporation on Stockpiles then Estrella | AN3: Total Flow to WTP
B4: Surface Area (acres) | D4: 1169 | I4: =1863+56 -> 1919 | J4: 92.5 | L4: =53.4+17+8 -> 78.4 | N4: =44+53 -> 97 | P4: 260 | R4: =134+59 -> 193 | T4: =86.3+13 -> 99.3 | V4: 79.8 | X4: 270 | Z4: 260 | AB4: 629 | AD4: =674+117 -> 791
B5: Pre Closure Average Runoff (inches) | I5: 0.81 | J5: 3.77 | L5: 3.77 | N5: 3.77 | P5: 2.23 | R5: 2.23 | T5: 2.23 | V5: 2.23 | X5: 2.23 | Z5: 2.23 | AB5: 2.23 | AD5: 2.23
B6: Pre Closure Average Seepage (inches) | P6: 0.33 | R6: 0.33 | T6: 0.33 | V6: 0.33 | X6: 0.33 | Z6: 0.33 | AB6: 0.33 | AD6: 0.33
B7: Post Closure Average Seepage (inches) | P7: 0.25 | R7: 0.25 | T7: 0.25 | V7: 0.25 | X7: 0.25 | Z7: 0.25 | AB7: 0.25 | AD7: 0.25
B8: Year | C8: (gpm) | D8: (acres) | E8: (gpm) | F8: (gpm) | G8: (gpm) | H8: (gpm) | I8: (gpm) | J8: (acres) | K8: (gpm) | L8: (acres) | M8: (gpm) | N8: (acres) | O8: (gpm) | P8: (acres) | Q8: (gpm) | R8: (acres) | S8: (gpm) | T8: (acres) | U8: (gpm) | V8: (acres) | W8: (gpm) | X8: (acres) | Y8: (gpm) | Z8: (acres) | AA8: (gpm) | AB8: (acres) | AC8: (gpm) | AD8: (acres) | AE8: (gpm) | AI8: gpm | AJ8: gpm | AK8: gpm | AL8: acres | AN8: gpm
B9: 1 | C9: 119.5276 | D9: 1169 | E9: 1410 | F9: =368-G9 -> 350 | G9: 18 | H9: 8.65 | I9: =(($I$4*($I$5/12))*325851)/(365*1440) -> 80.304975 | J9: 92.5 | K9: =((J9*($J$5/12))*325851)/(365*1440) -> 18.016297 | L9: =L4 -> 78.4 | M9: =((L9*($L$5/12))*325851)/(365*1440) -> 15.270029 | N9: =N4 -> 97 | O9: =((N9*($N$5/12))*325851)/(365*1440) -> 18.892766 | P9: =$P$4 -> 260 | Q9: =((((($P$5)/12)*P9)*325851)/(365*1440))+((((($P$6)/12)*P9)*325851)/(365*1440)) -> 34.387117 | R9: =R4 -> 193 | S9: =((((($R$5)/12)*R9)*325851)/(365*1440))+((((($R$6)/12)*R9)*325851)/(365*1440)) -> 25.525822 | T9: =T4 -> 99.3 | U9: =((((($T$5)/12)*T9)*325851)/(365*1440))+((((($T$6)/12)*T9)*325851)/(365*1440)) -> 13.133234 | V9: =79.8 -> 79.8 | W9: =((((($V$5)/12)*V9)*325851)/(365*1440))+((((($V$6)/12)*V9)*325851)/(365*1440)) -> 10.5542 | X9: 270 | Y9: =((((($X$5)/12)*X9)*325851)/(365*1440))+((((($X$6)/12)*X9)*325851)/(365*1440)) -> 35.709699 | Z9: =$Z$4-100 -> 160 | AA9: =((((($Z$5)/12)*Z9)*325851)/(365*1440))+((((($Z$6)/12)*Z9)*325851)/(365*1440)) -> 21.161303 | AB9: 629 | AC9: =((((($AB$5)/12)*AB9)*325851)/(365*1440))+((((($AB$6)/12)*AB9)*325851)/(365*1440)) -> 83.190372 | AD9: =AD4 -> 791 | AE9: =((((($AD$5)/12)*AD9)*325851)/(365*1440))+((((($AD$6)/12)*AD9)*325851)/(365*1440)) -> 104.61619 | AH9: Evaporation | AI9: =F9+I9+K9+AA9+AC9+Q9+M9+G9+H9 -> 628.98009 | AJ9: =O9+AE9+U9+W9+Y9+(S9*(59/193)) -> 190.70932 | AK9: =C9+E9 -> 1529.5276 | AL9: =(SUM($D$4:$AE$4)-$I$4)-(D9+L9+J9+N9+P9+R9+T9+V9+X9+Z9+AB9+AD9) -> 100 | AM9: =AI9+AJ9 -> 819.68941 | AN9: -
B10: =B9+1 -> 2 | C10: 119.91894 | D10: 1169 | E10: =E9*0.95 -> 1339.5 | F10: =368-G10 -> 350 | G10: 18 | H10: 8.65 | I10: =(($I$4*($I$5/12))*325851)/(365*1440) -> 80.304975 | J10: 92.5 | K10: =((J10*($J$5/12))*325851)/(365*1440) -> 18.016297 | L10: =L9 -> 78.4 | M10: =((L10*($L$5/12))*325851)/(365*1440) -> 15.270029 | N10: =N9 -> 97 | O10: =((N10*($N$5/12))*325851)/(365*1440) -> 18.892766 | P10: =$P$4 -> 260 | Q10: =((((($P$5)/12)*P10)*325851)/(365*1440))+((((($P$6)/12)*P10)*325851)/(365*1440)) -> 34.387117 | R10: =R9 -> 193 | S10: =((((($R$5)/12)*R10)*325851)/(365*1440))+((((($R$6)/12)*R10)*325851)/(365*1440)) -> 25.525822 | T10: =T9 -> 99.3 | U10: =((((($T$5)/12)*T10)*325851)/(365*1440))+((((($T$6)/12)*T10)*325851)/(365*1440)) -> 13.133234 | V10: =79.8 -> 79.8 | W10: =((((($V$5)/12)*V10)*325851)/(365*1440))+((((($V$6)/12)*V10)*325851)/(365*1440)) -> 10.5542 | X10: =X9-100 -> 170 | Y10: =((((($X$5)/12)*X10)*325851)/(365*1440))+((((($X$6)/12)*X10)*325851)/(365*1440)) -> 22.483884 | Z10: =Z9-100 -> 60 | AA10: =((((($Z$5)/12)*Z10)*325851)/(365*1440))+((((($Z$6)/12)*Z10)*325851)/(365*1440)) -> 7.9354886 | AB10: 629 | AC10: =((((($AB$5)/12)*AB10)*325851)/(365*1440))+((((($AB$6)/12)*AB10)*325851)/(365*1440)) -> 83.190372 | AD10: =AD9 -> 791 | AE10: =((((($AD$5)/12)*AD10)*325851)/(365*1440))+((((($AD$6)/12)*AD10)*325851)/(365*1440)) -> 104.61619 | AH10: Evaporation | AI10: =F10+I10+K10+AA10+AC10+Q10+M10+G10+H10 -> 615.75428 | AJ10: =O10+AE10+U10+W10+Y10+(S10*(59/193)) -> 177.48351 | AK10: =C10+E10 -> 1459.4189 | AL10: =(SUM($D$4:$AE$4)-$I$4)-(D10+L10+J10+N10+P10+R10+T10+V10+X10+Z10+AB10+AD10) -> 300 | AM10: =AI10+AJ10 -> 793.23778 | AN10: -
B11: =B10+1 -> 3 | C11: 120.46579 | D11: 1169 | E11: =E10*0.95 -> 1272.525 | F11: =368-G11 -> 350 | G11: 18 | H11: 8.65 | I11: =(($I$4*($I$5/12))*325851)/(365*1440) -> 80.304975 | J11: 92.5 | K11: =((J11*($J$5/12))*325851)/(365*1440) -> 18.016297 | L11: =L10 -> 78.4 | M11: =((L11*($L$5/12))*325851)/(365*1440) -> 15.270029 | N11: =N10 -> 97 | O11: =((N11*($N$5/12))*325851)/(365*1440) -> 18.892766 | P11: =$P$4 -> 260 | Q11: =((((($P$5)/12)*P11)*325851)/(365*1440))+((((($P$6)/12)*P11)*325851)/(365*1440)) -> 34.387117 | R11: =R10 -> 193 | S11: =((((($R$5)/12)*R11)*325851)/(365*1440))+((((($R$6)/12)*R11)*325851)/(365*1440)) -> 25.525822 | T11: =T10 -> 99.3 | U11: =((((($T$5)/12)*T11)*325851)/(365*1440))+((((($T$6)/12)*T11)*325851)/(365*1440)) -> 13.133234 | V11: =79.8 -> 79.8 | W11: =((((($V$5)/12)*V11)*325851)/(365*1440))+((((($V$6)/12)*V11)*325851)/(365*1440)) -> 10.5542 | X11: 170 | Y11: =((((($X$5)/12)*X11)*325851)/(365*1440))+((((($X$6)/12)*X11)*325851)/(365*1440)) -> 22.483884 | Z11: 50 | AA11: =((((($Z$5)/12)*Z11)*325851)/(365*1440))+((((($Z$6)/12)*Z11)*325851)/(365*1440)) -> 6.6129072 | AB11: 629 | AC11: =((((($AB$5)/12)*AB11)*325851)/(365*1440))+((((($AB$6)/12)*AB11)*325851)/(365*1440)) -> 83.190372 | AD11: =AD10-190 -> 601 | AE11: =((((($AD$5)/12)*AD11)*325851)/(365*1440))+((((($AD$6)/12)*AD11)*325851)/(365*1440)) -> 79.487144 | AH11: Evaporation | AI11: =F11+I11+K11+AA11+AC11+Q11+M11+G11+H11 -> 614.4317 | AJ11: =O11+AE11+U11+W11+Y11+(S11*(59/193)) -> 152.35446 | AK11: =C11+E11 -> 1392.9908 | AL11: =(SUM($D$4:$AE$4)-$I$4)-(D11+L11+J11+N11+P11+R11+T11+V11+X11+Z11+AB11+AD11) -> 500 | AM11: =AI11+AJ11 -> 766.78616 | AN11: -
B12: =B11+1 -> 4 | C12: 116.43004 | D12: 1169 | E12: =E11*0.95 -> 1208.8987 | F12: =368-G12 -> 350 | G12: 18 | H12: 8.65 | I12: =(($I$4*($I$5/12))*325851)/(365*1440) -> 80.304975 | J12: 92.5 | K12: =((J12*($J$5/12))*325851)/(365*1440) -> 18.016297 | L12: =L11 -> 78.4 | M12: =((L12*($L$5/12))*325851)/(365*1440) -> 15.270029 | N12: =N11 -> 97 | O12: =((N12*($N$5/12))*325851)/(365*1440) -> 18.892766 | P12: =$P$4 -> 260 | Q12: =((((($P$5)/12)*P12)*325851)/(365*1440))+((((($P$6)/12)*P12)*325851)/(365*1440)) -> 34.387117 | R12: =R11 -> 193 | S12: =((((($R$5)/12)*R12)*325851)/(365*1440))+((((($R$6)/12)*R12)*325851)/(365*1440)) -> 25.525822 | T12: =T11 -> 99.3 | U12: =((((($T$5)/12)*T12)*325851)/(365*1440))+((((($T$6)/12)*T12)*325851)/(365*1440)) -> 13.133234 | V12: =79.8 -> 79.8 | W12: =((((($V$5)/12)*V12)*325851)/(365*1440))+((((($V$6)/12)*V12)*325851)/(365*1440)) -> 10.5542 | X12: =X11 -> 170 | Y12: =((((($X$5)/12)*X12)*325851)/(365*1440))+((((($X$6)/12)*X12)*325851)/(365*1440)) -> 22.483884 | Z12: 50 | AA12: =AA11 -> 6.6129072 | AB12: 629 | AC12: =((((($AB$5)/12)*AB12)*325851)/(365*1440))+((((($AB$6)/12)*AB12)*325851)/(365*1440)) -> 83.190372 | AD12: =AD11-200 -> 401 | AE12: =((((($AD$5)/12)*AD12)*325851)/(365*1440))+((((($AD$6)/12)*AD12)*325851)/(365*1440)) -> 53.035515 | AH12: Evaporation | AI12: =F12+I12+K12+AA12+AC12+Q12+M12+G12+H12 -> 614.4317 | AJ12: =O12+AE12+U12+W12+Y12+(S12*(59/193)) -> 125.90283 | AK12: =C12+E12 -> 1325.3288 | AL12: =(SUM($D$4:$AE$4)-$I$4)-(D12+L12+J12+N12+P12+R12+T12+V12+X12+Z12+AB12+AD12) -> 700 | AM12: =AI12+AJ12 -> 740.33453 | AN12: -
B13: =B12+1 -> 5 | C13: 107.19226 | D13: 1169 | E13: =E12*0.95 -> 1148.4538 | F13: =368-G13 -> 350 | G13: 18 | H13: 8.65 | I13: =(($I$4*($I$5/12))*325851)/(365*1440) -> 80.304975 | J13: 92.5 | K13: =((J13*($J$5/12))*325851)/(365*1440) -> 18.016297 | L13: =L12 -> 78.4 | M13: =((L13*($L$5/12))*325851)/(365*1440) -> 15.270029 | N13: =N12 -> 97 | O13: =((N13*($N$5/12))*325851)/(365*1440) -> 18.892766 | P13: =$P$4 -> 260 | Q13: =((((($P$5)/12)*P13)*325851)/(365*1440))+((((($P$6)/12)*P13)*325851)/(365*1440)) -> 34.387117 | R13: =R12 -> 193 | S13: =((((($R$5)/12)*R13)*325851)/(365*1440))+((((($R$6)/12)*R13)*325851)/(365*1440)) -> 25.525822 | T13: =T12 -> 99.3 | U13: =((((($T$5)/12)*T13)*325851)/(365*1440))+((((($T$6)/12)*T13)*325851)/(365*1440)) -> 13.133234 | V13: =79.8 -> 79.8 | W13: =((((($V$5)/12)*V13)*325851)/(365*1440))+((((($V$6)/12)*V13)*325851)/(365*1440)) -> 10.5542 | X13: =X12 -> 170 | Y13: =((((($X$5)/12)*X13)*325851)/(365*1440))+((((($X$6)/12)*X13)*325851)/(365*1440)) -> 22.483884 | Z13: 50 | AA13: =AA12 -> 6.6129072 | AB13: 629 | AC13: =((((($AB$5)/12)*AB13)*325851)/(365*1440))+((((($AB$6)/12)*AB13)*325851)/(365*1440)) -> 83.190372 | AD13: =AD12-200 -> 201 | AE13: =((((($AD$5)/12)*AD13)*325851)/(365*1440))+((((($AD$6)/12)*AD13)*325851)/(365*1440)) -> 26.583887 | AH13: Evaporation | AI13: =F13+I13+K13+AA13+AC13+Q13+M13+G13+H13 -> 614.4317 | AJ13: =O13+AE13+U13+W13+Y13+(S13*(59/193)) -> 99.451201 | AK13: =C13+E13 -> 1255.6461 | AL13: =(SUM($D$4:$AE$4)-$I$4)-(D13+L13+J13+N13+P13+R13+T13+V13+X13+Z13+AB13+AD13) -> 900 | AM13: =AI13+AJ13 -> 713.8829 | AN13: -
B14: =B13+1 -> 6 | C14: 98.287569 | D14: 1169 | E14: =E13*0.95 -> 1091.0311 | F14: =368-G14 -> 350 | G14: 18 | H14: 8.65 | I14: =(($I$4*($I$5/12))*325851)/(365*1440) -> 80.304975 | J14: 92.5 | K14: =((J14*($J$5/12))*325851)/(365*1440) -> 18.016297 | L14: =L13 -> 78.4 | M14: =((L14*($L$5/12))*325851)/(365*1440) -> 15.270029 | N14: =N13 -> 97 | O14: =((N14*($N$5/12))*325851)/(365*1440) -> 18.892766 | P14: =$P$4 -> 260 | Q14: =((((($P$5)/12)*P14)*325851)/(365*1440))+((((($P$6)/12)*P14)*325851)/(365*1440)) -> 34.387117 | R14: =R13 -> 193 | S14: =((((($R$5)/12)*R14)*325851)/(365*1440))+((((($R$6)/12)*R14)*325851)/(365*1440)) -> 25.525822 | T14: =T13 -> 99.3 | U14: =((((($T$5)/12)*T14)*325851)/(365*1440))+((((($T$6)/12)*T14)*325851)/(365*1440)) -> 13.133234 | V14: =79.8 -> 79.8 | W14: =((((($V$5)/12)*V14)*325851)/(365*1440))+((((($V$6)/12)*V14)*325851)/(365*1440)) -> 10.5542 | X14: =X13 -> 170 | Y14: =((((($X$5)/12)*X14)*325851)/(365*1440))+((((($X$6)/12)*X14)*325851)/(365*1440)) -> 22.483884 | Z14: 50 | AA14: =AA13 -> 6.6129072 | AB14: 629 | AC14: =((((($AB$5)/12)*AB14)*325851)/(365*1440))+((((($AB$6)/12)*AB14)*325851)/(365*1440)) -> 83.190372 | AD14: =AD13-200 -> 1 | AE14: =((((($AD$5)/12)*AD14)*325851)/(365*1440))+((((($AD$6)/12)*AD14)*325851)/(365*1440)) -> 0.13225814 | AH14: UF/RO Treatment | AI14: =F14+I14+K14+AA14+AC14+Q14+M14+G14+H14 -> 614.4317 | AJ14: =O14+AE14+U14+W14+Y14+(S14*(59/193)) -> 72.999572 | AK14: =C14+E14 -> 1189.3187 | AL14: =(SUM($D$4:$AE$4)-$I$4)-(D14+L14+J14+N14+P14+R14+T14+V14+X14+Z14+AB14+AD14) -> 1100 | AM14: =G14+I14+K14+M14+O14+Q14+U14+W14+Y14+AA14+AC14+AE14+H14+(S14*(59/193)) -> 337.43127 | AN14: =C14+E14+F14 -> 1539.3187
B15: =B14+1 -> 7 | C15: 90.247162 | D15: 1169 | E15: =E14*0.95 -> 1036.4796 | F15: =368-G15 -> 350 | G15: 18 | H15: 8.65 | I15: =(($I$4*($I$5/12))*325851)/(365*1440) -> 80.304975 | J15: 92.5 | K15: =((J15*($J$5/12))*325851)/(365*1440) -> 18.016297 | L15: =L14 -> 78.4 | M15: =((L15*($L$5/12))*325851)/(365*1440) -> 15.270029 | N15: =N14 -> 97 | O15: =((N15*($N$5/12))*325851)/(365*1440) -> 18.892766 | P15: =$P$4 -> 260 | Q15: =((((($P$5)/12)*P15)*325851)/(365*1440))+((((($P$6)/12)*P15)*325851)/(365*1440)) -> 34.387117 | R15: =R14 -> 193 | S15: =((((($R$5)/12)*R15)*325851)/(365*1440))+((((($R$6)/12)*R15)*325851)/(365*1440)) -> 25.525822 | T15: =T14 -> 99.3 | U15: =((((($T$5)/12)*T15)*325851)/(365*1440))+((((($T$6)/12)*T15)*325851)/(365*1440)) -> 13.133234 | V15: =79.8 -> 79.8 | W15: =((((($V$5)/12)*V15)*325851)/(365*1440))+((((($V$6)/12)*V15)*325851)/(365*1440)) -> 10.5542 | X15: =X14 -> 170 | Y15: =((((($X$5)/12)*X15)*325851)/(365*1440))+((((($X$6)/12)*X15)*325851)/(365*1440)) -> 22.483884 | Z15: 50 | AA15: =AA14 -> 6.6129072 | AB15: 430 | AC15: =((((($AB$5)/12)*AB15)*325851)/(365*1440))+((((($AB$6)/12)*AB15)*325851)/(365*1440)) -> 56.871002 | AD15: 0 | AE15: =((($AD$7/12)*$AD$4)*325851)/(365*1440) -> 10.216425 | AH15: UF/RO Treatment | AI15: =F15+I15+K15+AA15+AC15+Q15+M15+G15+H15 -> 588.11233 | AJ15: =O15+AE15+U15+W15+Y15+(S15*(59/193)) -> 83.083739 | AK15: =C15+E15 -> 1126.7267 | AL15: =(SUM($D$4:$AE$4)-$I$4)-(D15+L15+J15+N15+P15+R15+T15+V15+X15+Z15+AB15+AD15) -> 1300 | AM15: =G15+I15+K15+M15+O15+Q15+U15+W15+Y15+AA15+AC15+AE15+H15+(S15*(59/193)) -> 321.19607 | AN15: =C15+E15+F15 -> 1476.7267
B16: =B15+1 -> 8 | C16: 83.204069 | D16: 1169 | E16: =E15*0.95 -> 984.65559 | F16: =368-G16 -> 350 | G16: 18 | H16: 8.65 | I16: =(($I$4*($I$5/12))*325851)/(365*1440) -> 80.304975 | J16: 92.5 | K16: =((J16*($J$5/12))*325851)/(365*1440) -> 18.016297 | L16: =L15 -> 78.4 | M16: =((L16*($L$5/12))*325851)/(365*1440) -> 15.270029 | N16: =N15 -> 97 | O16: =((N16*($N$5/12))*325851)/(365*1440) -> 18.892766 | P16: =$P$4 -> 260 | Q16: =((((($P$5)/12)*P16)*325851)/(365*1440))+((((($P$6)/12)*P16)*325851)/(365*1440)) -> 34.387117 | R16: =R15 -> 193 | S16: =((((($R$5)/12)*R16)*325851)/(365*1440))+((((($R$6)/12)*R16)*325851)/(365*1440)) -> 25.525822 | T16: =T15 -> 99.3 | U16: =((((($T$5)/12)*T16)*325851)/(365*1440))+((((($T$6)/12)*T16)*325851)/(365*1440)) -> 13.133234 | V16: =79.8 -> 79.8 | W16: =((((($V$5)/12)*V16)*325851)/(365*1440))+((((($V$6)/12)*V16)*325851)/(365*1440)) -> 10.5542 | X16: =X15 -> 170 | Y16: =((((($X$5)/12)*X16)*325851)/(365*1440))+((((($X$6)/12)*X16)*325851)/(365*1440)) -> 22.483884 | Z16: 50 | AA16: =AA15 -> 6.6129072 | AB16: =AB15-200 -> 230 | AC16: =((((($AB$5)/12)*AB16)*325851)/(365*1440))+((((($AB$6)/12)*AB16)*325851)/(365*1440)) -> 30.419373 | AD16: =AD15 -> 0 | AE16: =((($AD$7/12)*$AD$4)*325851)/(365*1440) -> 10.216425 | AH16: UF/RO Treatment | AI16: =F16+I16+K16+AA16+AC16+Q16+M16+G16+H16 -> 561.6607 | AJ16: =O16+AE16+U16+W16+Y16+(S16*(59/193)) -> 83.083739 | AK16: =C16+E16 -> 1067.8597 | AL16: =(SUM($D$4:$AE$4)-$I$4)-(D16+L16+J16+N16+P16+R16+T16+V16+X16+Z16+AB16+AD16) -> 1500 | AM16: =G16+I16+K16+M16+O16+Q16+U16+W16+Y16+AA16+AC16+AE16+H16+(S16*(59/193)) -> 294.74444 | AN16: =C16+E16+F16 -> 1417.8597
B17: =B16+1 -> 9 | C17: 77.131492 | D17: 1169 | E17: =E16*0.95 -> 935.42281 | F17: =368-G17 -> 350 | G17: 18 | H17: 8.65 | I17: =(($I$4*($I$5/12))*325851)/(365*1440) -> 80.304975 | J17: 92.5 | K17: =((J17*($J$5/12))*325851)/(365*1440) -> 18.016297 | L17: =L16 -> 78.4 | M17: =((L17*($L$5/12))*325851)/(365*1440) -> 15.270029 | N17: =N16 -> 97 | O17: =((N17*($N$5/12))*325851)/(365*1440) -> 18.892766 | P17: =$P$4 -> 260 | Q17: =((((($P$5)/12)*P17)*325851)/(365*1440))+((((($P$6)/12)*P17)*325851)/(365*1440)) -> 34.387117 | R17: =R16 -> 193 | S17: =((((($R$5)/12)*R17)*325851)/(365*1440))+((((($R$6)/12)*R17)*325851)/(365*1440)) -> 25.525822 | T17: =T16 -> 99.3 | U17: =((((($T$5)/12)*T17)*325851)/(365*1440))+((((($T$6)/12)*T17)*325851)/(365*1440)) -> 13.133234 | V17: =79.8 -> 79.8 | W17: =((((($V$5)/12)*V17)*325851)/(365*1440))+((((($V$6)/12)*V17)*325851)/(365*1440)) -> 10.5542 | X17: =X16 -> 170 | Y17: =((((($X$5)/12)*X17)*325851)/(365*1440))+((((($X$6)/12)*X17)*325851)/(365*1440)) -> 22.483884 | Z17: 50 | AA17: =AA16 -> 6.6129072 | AB17: =AB16-200 -> 30 | AC17: =((((($AB$5)/12)*AB17)*325851)/(365*1440))+((((($AB$6)/12)*AB17)*325851)/(365*1440)) -> 3.9677443 | AD17: =AD16 -> 0 | AE17: =((($AD$7/12)*$AD$4)*325851)/(365*1440) -> 10.216425 | AH17: UF/RO Treatment | AI17: =F17+I17+K17+AA17+AC17+Q17+M17+G17+H17 -> 535.20907 | AJ17: =O17+AE17+U17+W17+Y17+(S17*(59/193)) -> 83.083739 | AK17: =C17+E17 -> 1012.5543 | AL17: =(SUM($D$4:$AE$4)-$I$4)-(D17+L17+J17+N17+P17+R17+T17+V17+X17+Z17+AB17+AD17) -> 1700 | AM17: =G17+I17+K17+M17+O17+Q17+U17+W17+Y17+AA17+AC17+AE17+H17+(S17*(59/193)) -> 268.29281 | AN17: =C17+E17+F17 -> 1362.5543
B18: =B17+1 -> 10 | C18: 71.930031 | D18: 1169 | E18: =E17*0.95 -> 888.65167 | F18: =368-G18 -> 350 | G18: 18 | H18: 8.65 | I18: =(($I$4*($I$5/12))*325851)/(365*1440) -> 80.304975 | J18: 92.5 | K18: =((J18*($J$5/12))*325851)/(365*1440) -> 18.016297 | L18: =L17 -> 78.4 | M18: =((L18*($L$5/12))*325851)/(365*1440) -> 15.270029 | N18: =N17 -> 97 | O18: =((N18*($N$5/12))*325851)/(365*1440) -> 18.892766 | P18: =$P$4 -> 260 | Q18: =((((($P$5)/12)*P18)*325851)/(365*1440))+((((($P$6)/12)*P18)*325851)/(365*1440)) -> 34.387117 | R18: =R17 -> 193 | S18: =((((($R$5)/12)*R18)*325851)/(365*1440))+((((($R$6)/12)*R18)*325851)/(365*1440)) -> 25.525822 | T18: =T17 -> 99.3 | U18: =((((($T$5)/12)*T18)*325851)/(365*1440))+((((($T$6)/12)*T18)*325851)/(365*1440)) -> 13.133234 | V18: =79.8 -> 79.8 | W18: =((((($V$5)/12)*V18)*325851)/(365*1440))+((((($V$6)/12)*V18)*325851)/(365*1440)) -> 10.5542 | X18: 0 | Y18: =((($X$7/12)*$X$4)*325851)/(365*1440) -> 3.4872753 | Z18: 50 | AA18: =AA17 -> 6.6129072 | AB18: 0 | AC18: =((($AB$7/12)*$AB$4)*325851)/(365*1440) -> 8.1240598 | AD18: =AD17 -> 0 | AE18: =((($AD$7/12)*$AD$4)*325851)/(365*1440) -> 10.216425 | AH18: UF/RO Treatment | AI18: =F18+I18+K18+AA18+AC18+Q18+M18+G18+H18 -> 539.36539 | AJ18: =O18+AE18+U18+W18+Y18+(S18*(59/193)) -> 64.08713 | AK18: =C18+E18 -> 960.5817 | AL18: =(SUM($D$4:$AE$4)-$I$4)-(D18+L18+J18+N18+P18+R18+T18+V18+X18+Z18+AB18+AD18) -> 1900 | AM18: =G18+I18+K18+M18+O18+Q18+U18+W18+Y18+AA18+AC18+AE18+H18+(S18*(59/193)) -> 253.45252 | AN18: =C18+E18+F18 -> 1310.5817
B19: =B18+1 -> 11 | C19: 67.468211 | D19: 1169 | E19: =E18*0.95 -> 844.21908 | F19: =368-G19 -> 350 | G19: 18 | H19: 8.65 | I19: =(($I$4*($I$5/12))*325851)/(365*1440) -> 80.304975 | J19: 92.5 | K19: =((J19*($J$5/12))*325851)/(365*1440) -> 18.016297 | L19: =L18 -> 78.4 | M19: =((L19*($L$5/12))*325851)/(365*1440) -> 15.270029 | N19: =N18 -> 97 | O19: =((N19*($N$5/12))*325851)/(365*1440) -> 18.892766 | P19: =$P$4 -> 260 | Q19: =((((($P$5)/12)*P19)*325851)/(365*1440))+((((($P$6)/12)*P19)*325851)/(365*1440)) -> 34.387117 | R19: 172 | S19: =((((($R$5)/12)*R19)*325851)/(365*1440))+((((($R$6)/12)*R19)*325851)/(365*1440)) -> 22.748401 | T19: 0 | U19: =((($T$7/12)*$T$4)*325851)/(365*1440) -> 1.2825423 | V19: 0 | W19: =((($V$7/12)*$V$4)*325851)/(365*1440) -> 1.0306836 | X19: 0 | Y19: =((($X$7/12)*$X$4)*325851)/(365*1440) -> 3.4872753 | Z19: 50 | AA19: =AA18 -> 6.6129072 | AB19: 0 | AC19: =((($AB$7/12)*$AB$4)*325851)/(365*1440) -> 8.1240598 | AD19: =AD18 -> 0 | AE19: =((($AD$7/12)*$AD$4)*325851)/(365*1440) -> 10.216425 | AH19: UF/RO Treatment | AI19: =F19+I19+K19+AA19+AC19+Q19+M19+G19+H19 -> 539.36539 | AJ19: =O19+AE19+U19+W19+Y19+(S19*(59/193)) -> 41.863866 | AK19: =C19+E19 -> 911.6873 | AL19: =(SUM($D$4:$AE$4)-$I$4)-(D19+L19+J19+N19+P19+R19+T19+V19+X19+Z19+AB19+AD19) -> 2100.1 | AM19: =G19+I19+K19+M19+O19+Q19+U19+W19+Y19+AA19+AC19+AE19+H19+(S19*(59/193)) -> 231.22925 | AN19: =C19+E19+F19 -> 1261.6873
B20: =B19+1 -> 12 | C20: 63.624038 | D20: 1169 | E20: =E19*0.95 -> 802.00813 | F20: =368-G20 -> 350 | G20: 18 | H20: 8.65 | I20: =(($I$4*($I$5/12))*325851)/(365*1440) -> 80.304975 | J20: 92.5 | K20: =((J20*($J$5/12))*325851)/(365*1440) -> 18.016297 | L20: =L19 -> 78.4 | M20: =((L20*($L$5/12))*325851)/(365*1440) -> 15.270029 | N20: =N19 -> 97 | O20: =((N20*($N$5/12))*325851)/(365*1440) -> 18.892766 | P20: 232 | Q20: =((((($P$5)/12)*P20)*325851)/(365*1440))+((((($P$6)/12)*P20)*325851)/(365*1440)) -> 30.683889 | R20: 0 | S20: =((($R$7/12)*$R$4)*325851)/(365*1440) -> 2.492756 | T20: 0 | U20: =((($T$7/12)*$T$4)*325851)/(365*1440) -> 1.2825423 | V20: 0 | W20: =((($V$7/12)*$V$4)*325851)/(365*1440) -> 1.0306836 | X20: 0 | Y20: =((($X$7/12)*$X$4)*325851)/(365*1440) -> 3.4872753 | Z20: 50 | AA20: =AA19 -> 6.6129072 | AB20: 0 | AC20: =((($AB$7/12)*$AB$4)*325851)/(365*1440) -> 8.1240598 | AD20: =AD19 -> 0 | AE20: =((($AD$7/12)*$AD$4)*325851)/(365*1440) -> 10.216425 | AH20: UF/RO Treatment | AI20: =F20+I20+K20+AA20+AC20+Q20+M20+G20+H20 -> 535.66216 | AJ20: =O20+AE20+U20+W20+Y20+(S20*(59/193)) -> 35.671726 | AK20: =C20+E20 -> 865.63217 | AL20: =(SUM($D$4:$AE$4)-$I$4)-(D20+L20+J20+N20+P20+R20+T20+V20+X20+Z20+AB20+AD20) -> 2300.1 | AM20: =G20+I20+K20+M20+O20+Q20+U20+W20+Y20+AA20+AC20+AE20+H20+(S20*(59/193)) -> 221.33388 | AN20: =C20+E20+F20 -> 1215.6322
B21: =B20+1 -> 13 | C21: 60.298857 | D21: 1169 | E21: =E20*0.95 -> 761.90772 | F21: =368-G21 -> 350 | G21: 18 | H21: 8.65 | I21: =(($I$4*($I$5/12))*325851)/(365*1440) -> 80.304975 | J21: 92.5 | K21: =((J21*($J$5/12))*325851)/(365*1440) -> 18.016297 | L21: =L20 -> 78.4 | M21: =((L21*($L$5/12))*325851)/(365*1440) -> 15.270029 | N21: 97 | O21: =((N21*($N$5/12))*325851)/(365*1440) -> 18.892766 | P21: 32 | Q21: =((((($P$5)/12)*P21)*325851)/(365*1440))+((((($P$6)/12)*P21)*325851)/(365*1440)) -> 4.2322606 | R21: 0 | S21: =((($R$7/12)*$R$4)*325851)/(365*1440) -> 2.492756 | T21: 0 | U21: =((($T$7/12)*$T$4)*325851)/(365*1440) -> 1.2825423 | V21: 0 | W21: =((($V$7/12)*$V$4)*325851)/(365*1440) -> 1.0306836 | X21: 0 | Y21: =((($X$7/12)*$X$4)*325851)/(365*1440) -> 3.4872753 | Z21: 50 | AA21: =AA20 -> 6.6129072 | AB21: 0 | AC21: =((($AB$7/12)*$AB$4)*325851)/(365*1440) -> 8.1240598 | AD21: =AD20 -> 0 | AE21: =((($AD$7/12)*$AD$4)*325851)/(365*1440) -> 10.216425 | AH21: UF/RO Treatment | AI21: =F21+I21+K21+AA21+AC21+Q21+M21+G21+H21 -> 509.21053 | AJ21: =O21+AE21+U21+W21+Y21+(S21*(59/193)) -> 35.671726 | AK21: =C21+E21 -> 822.20658 | AL21: =(SUM($D$4:$AE$4)-$I$4)-(D21+L21+J21+N21+P21+R21+T21+V21+X21+Z21+AB21+AD21) -> 2500.1 | AM21: =G21+I21+K21+M21+O21+Q21+U21+W21+Y21+AA21+AC21+AE21+H21+(S21*(59/193)) -> 194.88225 | AN21: =C21+E21+F21 -> 1172.2066
B22: =B21+1 -> 14 | C22: 57.407247 | D22: 1169 | E22: =E21*0.95 -> 723.81234 | F22: =368-G22 -> 350 | G22: 18 | H22: 8.65 | I22: =(($I$4*($I$5/12))*325851)/(365*1440) -> 80.304975 | J22: 93 | K22: =((J22*($J$5/12))*325851)/(365*1440) -> 18.113683 | L22: 7 | M22: =((L22*($L$5/12))*325851)/(365*1440) -> 1.3633955 | N22: 0 | O22: =((N22*($N$5/12))*325851)/(365*1440) -> 0 | P22: 0 | Q22: =((($P$7/12)*$P$4)*325851)/(365*1440) -> 3.3581169 | R22: 0 | S22: =((($R$7/12)*$R$4)*325851)/(365*1440) -> 2.492756 | T22: 0 | U22: =((($T$7/12)*$T$4)*325851)/(365*1440) -> 1.2825423 | V22: 0 | W22: =((($V$7/12)*$V$4)*325851)/(365*1440) -> 1.0306836 | X22: 0 | Y22: =((($X$7/12)*$X$4)*325851)/(365*1440) -> 3.4872753 | Z22: 50 | AA22: =AA21 -> 6.6129072 | AB22: 0 | AC22: =((($AB$7/12)*$AB$4)*325851)/(365*1440) -> 8.1240598 | AD22: =AD21 -> 0 | AE22: =((($AD$7/12)*$AD$4)*325851)/(365*1440) -> 10.216425 | AH22: UF/RO Treatment | AI22: =F22+I22+K22+AA22+AC22+Q22+M22+G22+H22 -> 494.52714 | AJ22: =O22+AE22+U22+W22+Y22+(S22*(59/193)) -> 16.77896 | AK22: =C22+E22 -> 781.21958 | AL22: =(SUM($D$4:$AE$4)-$I$4)-(D22+L22+J22+N22+P22+R22+T22+V22+X22+Z22+AB22+AD22) -> 2700 | AM22: =G22+I22+K22+M22+O22+Q22+U22+W22+Y22+AA22+AC22+AE22+H22+(S22*(59/193)) -> 161.3061 | AN22: =C22+E22+F22 -> 1131.2196
B23: =B22+1 -> 15 | C23: 54.862769 | D23: 1069 | E23: =E22*0.95 -> 687.62172 | F23: =368-G23 -> 350 | G23: 18 | H23: 8.65 | I23: =(($I$4*($I$5/12))*325851)/(365*1440) -> 80.304975 | J23: 0 | K23: =((J23*($J$5/12))*325851)/(365*1440) -> 0 | L23: 0 | M23: =((L23*($N$5/12))*325851)/(365*1440) -> 0 | N23: 0 | O23: =((N23*($N$5/12))*325851)/(365*1440) -> 0 | P23: 0 | Q23: =((($P$7/12)*$P$4)*325851)/(365*1440) -> 3.3581169 | R23: 0 | S23: =((($R$7/12)*$R$4)*325851)/(365*1440) -> 2.492756 | T23: 0 | U23: =((($T$7/12)*$T$4)*325851)/(365*1440) -> 1.2825423 | V23: 0 | W23: =((($V$7/12)*$V$4)*325851)/(365*1440) -> 1.0306836 | X23: 0 | Y23: =((($X$7/12)*$X$4)*325851)/(365*1440) -> 3.4872753 | Z23: 50 | AA23: =AA22 -> 6.6129072 | AB23: 0 | AC23: =((($AB$7/12)*$AB$4)*325851)/(365*1440) -> 8.1240598 | AD23: =AD22 -> 0 | AE23: =((($AD$7/12)*$AD$4)*325851)/(365*1440) -> 10.216425 | AH23: UF/RO Treatment | AI23: =F23+I23+K23+AA23+AC23+Q23+M23+G23+H23 -> 475.05006 | AJ23: =O23+AE23+U23+W23+Y23+(S23*(59/193)) -> 16.77896 | AK23: =C23+E23 -> 742.48449 | AL23: =(SUM($D$4:$AE$4)-$I$4)-(D23+L23+J23+N23+P23+R23+T23+V23+X23+Z23+AB23+AD23) -> 2900 | AM23: =G23+I23+K23+M23+O23+Q23+U23+W23+Y23+AA23+AC23+AE23+H23+(S23*(59/193)) -> 141.82902 | AN23: =C23+E23+F23 -> 1092.4845
B24: =B23+1 -> 16 | C24: 52.620527 | D24: =D23-200 -> 869 | E24: =E23*0.95 -> 653.24063 | F24: =368-G24 -> 350 | G24: 18 | H24: 8.65 | I24: =(($I$4*($I$5/12))*325851)/(365*1440) -> 80.304975 | J24: 0 | K24: =((J24*($J$5/12))*325851)/(365*1440) -> 0 | L24: 0 | M24: =((L24*($N$5/12))*325851)/(365*1440) -> 0 | N24: 0 | O24: =((N24*($N$5/12))*325851)/(365*1440) -> 0 | P24: 0 | Q24: =((($P$7/12)*$P$4)*325851)/(365*1440) -> 3.3581169 | R24: 0 | S24: =((($R$7/12)*$R$4)*325851)/(365*1440) -> 2.492756 | T24: 0 | U24: =((($T$7/12)*$T$4)*325851)/(365*1440) -> 1.2825423 | V24: 0 | W24: =((($V$7/12)*$V$4)*325851)/(365*1440) -> 1.0306836 | X24: 0 | Y24: =((($X$7/12)*$X$4)*325851)/(365*1440) -> 3.4872753 | Z24: 50 | AA24: =AA23 -> 6.6129072 | AB24: 0 | AC24: =((($AB$7/12)*$AB$4)*325851)/(365*1440) -> 8.1240598 | AD24: =AD23 -> 0 | AE24: =((($AD$7/12)*$AD$4)*325851)/(365*1440) -> 10.216425 | AH24: UF/RO Treatment | AI24: =F24+I24+K24+AA24+AC24+Q24+M24+G24+H24 -> 475.05006 | AJ24: =O24+AE24+U24+W24+Y24+(S24*(59/193)) -> 16.77896 | AK24: =C24+E24 -> 705.86116 | AL24: =(SUM($D$4:$AE$4)-$I$4)-(D24+L24+J24+N24+P24+R24+T24+V24+X24+Z24+AB24+AD24) -> 3100 | AM24: =G24+I24+K24+M24+O24+Q24+U24+W24+Y24+AA24+AC24+AE24+H24+(S24*(59/193)) -> 141.82902 | AN24: =C24+E24+F24 -> 1055.8612
B25: =B24+1 -> 17 | C25: 50.611715 | D25: =D24-200 -> 669 | E25: =E24*0.95 -> 620.5786 | F25: =368-G25 -> 350 | G25: 18 | H25: 8.65 | I25: =(($I$4*($I$5/12))*325851)/(365*1440) -> 80.304975 | J25: 0 | K25: =((J25*($J$5/12))*325851)/(365*1440) -> 0 | L25: 0 | M25: =((L25*($N$5/12))*325851)/(365*1440) -> 0 | N25: 0 | O25: =((N25*($N$5/12))*325851)/(365*1440) -> 0 | P25: 0 | Q25: =((($P$7/12)*$P$4)*325851)/(365*1440) -> 3.3581169 | R25: 0 | S25: =((($R$7/12)*$R$4)*325851)/(365*1440) -> 2.492756 | T25: 0 | U25: =((($T$7/12)*$T$4)*325851)/(365*1440) -> 1.2825423 | V25: 0 | W25: =((($V$7/12)*$V$4)*325851)/(365*1440) -> 1.0306836 | X25: 0 | Y25: =((($X$7/12)*$X$4)*325851)/(365*1440) -> 3.4872753 | Z25: 50 | AA25: =AA24 -> 6.6129072 | AB25: 0 | AC25: =((($AB$7/12)*$AB$4)*325851)/(365*1440) -> 8.1240598 | AD25: =AD24 -> 0 | AE25: =((($AD$7/12)*$AD$4)*325851)/(365*1440) -> 10.216425 | AH25: UF/RO Treatment | AI25: =F25+I25+K25+AA25+AC25+Q25+M25+G25+H25 -> 475.05006 | AJ25: =O25+AE25+U25+W25+Y25+(S25*(59/193)) -> 16.77896 | AK25: =C25+E25 -> 671.19032 | AL25: =(SUM($D$4:$AE$4)-$I$4)-(D25+L25+J25+N25+P25+R25+T25+V25+X25+Z25+AB25+AD25) -> 3300 | AM25: =G25+I25+K25+M25+O25+Q25+U25+W25+Y25+AA25+AC25+AE25+H25+(S25*(59/193)) -> 141.82902 | AN25: =C25+E25+F25 -> 1021.1903
B26: =B25+1 -> 18 | C26: 48.801483 | D26: =D25-200 -> 469 | E26: =E25*0.95 -> 589.54967 | F26: =368-G26 -> 350 | G26: 18 | H26: 8.65 | I26: =(($I$4*($I$5/12))*325851)/(365*1440) -> 80.304975 | J26: 0 | K26: =((J26*($J$5/12))*325851)/(365*1440) -> 0 | L26: 0 | M26: =((L26*($N$5/12))*325851)/(365*1440) -> 0 | N26: 0 | O26: =((N26*($N$5/12))*325851)/(365*1440) -> 0 | P26: 0 | Q26: =((($P$7/12)*$P$4)*325851)/(365*1440) -> 3.3581169 | R26: 0 | S26: =((($R$7/12)*$R$4)*325851)/(365*1440) -> 2.492756 | T26: 0 | U26: =((($T$7/12)*$T$4)*325851)/(365*1440) -> 1.2825423 | V26: 0 | W26: =((($V$7/12)*$V$4)*325851)/(365*1440) -> 1.0306836 | X26: 0 | Y26: =((($X$7/12)*$X$4)*325851)/(365*1440) -> 3.4872753 | Z26: 50 | AA26: =AA25 -> 6.6129072 | AB26: 0 | AC26: =((($AB$7/12)*$AB$4)*325851)/(365*1440) -> 8.1240598 | AD26: =AD25 -> 0 | AE26: =((($AD$7/12)*$AD$4)*325851)/(365*1440) -> 10.216425 | AH26: UF/RO Treatment | AI26: =F26+I26+K26+AA26+AC26+Q26+M26+G26+H26 -> 475.05006 | AJ26: =O26+AE26+U26+W26+Y26+(S26*(59/193)) -> 16.77896 | AK26: =C26+E26 -> 638.35116 | AL26: =(SUM($D$4:$AE$4)-$I$4)-(D26+L26+J26+N26+P26+R26+T26+V26+X26+Z26+AB26+AD26) -> 3500 | AM26: =G26+I26+K26+M26+O26+Q26+U26+W26+Y26+AA26+AC26+AE26+H26+(S26*(59/193)) -> 141.82902 | AN26: =C26+E26+F26 -> 988.35116
B27: =B26+1 -> 19 | C27: 47.150172 | D27: =D26-200 -> 269 | E27: =E26*0.95 -> 560.07219 | F27: =368-G27 -> 350 | G27: 18 | H27: 8.65 | I27: =(($I$4*($I$5/12))*325851)/(365*1440) -> 80.304975 | J27: 0 | K27: =((J27*($J$5/12))*325851)/(365*1440) -> 0 | L27: 0 | M27: =((L27*($N$5/12))*325851)/(365*1440) -> 0 | N27: 0 | O27: =((N27*($N$5/12))*325851)/(365*1440) -> 0 | P27: 0 | Q27: =((($P$7/12)*$P$4)*325851)/(365*1440) -> 3.3581169 | R27: 0 | S27: =((($R$7/12)*$R$4)*325851)/(365*1440) -> 2.492756 | T27: 0 | U27: =((($T$7/12)*$T$4)*325851)/(365*1440) -> 1.2825423 | V27: 0 | W27: =((($V$7/12)*$V$4)*325851)/(365*1440) -> 1.0306836 | X27: 0 | Y27: =((($X$7/12)*$X$4)*325851)/(365*1440) -> 3.4872753 | Z27: 50 | AA27: =AA26 -> 6.6129072 | AB27: 0 | AC27: =((($AB$7/12)*$AB$4)*325851)/(365*1440) -> 8.1240598 | AD27: =AD26 -> 0 | AE27: =((($AD$7/12)*$AD$4)*325851)/(365*1440) -> 10.216425 | AH27: UF/RO Treatment | AI27: =F27+I27+K27+AA27+AC27+Q27+M27+G27+H27 -> 475.05006 | AJ27: =O27+AE27+U27+W27+Y27+(S27*(59/193)) -> 16.77896 | AK27: =C27+E27 -> 607.22236 | AL27: =(SUM($D$4:$AE$4)-$I$4)-(D27+L27+J27+N27+P27+R27+T27+V27+X27+Z27+AB27+AD27) -> 3700 | AM27: =G27+I27+K27+M27+O27+Q27+U27+W27+Y27+AA27+AC27+AE27+H27+(S27*(59/193)) -> 141.82902 | AN27: =C27+E27+F27 -> 957.22236
B28: =B27+1 -> 20 | C28: 45.624944 | D28: =D27-200 -> 69 | E28: =E27*0.95 -> 532.06858 | F28: =368-G28 -> 350 | G28: 18 | H28: 8.65 | I28: =(($I$4*($I$5/12))*325851)/(365*1440) -> 80.304975 | J28: 0 | K28: =((J28*($J$5/12))*325851)/(365*1440) -> 0 | L28: 0 | M28: =((L28*($N$5/12))*325851)/(365*1440) -> 0 | N28: 0 | O28: =((N28*($N$5/12))*325851)/(365*1440) -> 0 | P28: 0 | Q28: =((($P$7/12)*$P$4)*325851)/(365*1440) -> 3.3581169 | R28: 0 | S28: =((($R$7/12)*$R$4)*325851)/(365*1440) -> 2.492756 | T28: 0 | U28: =((($T$7/12)*$T$4)*325851)/(365*1440) -> 1.2825423 | V28: 0 | W28: =((($V$7/12)*$V$4)*325851)/(365*1440) -> 1.0306836 | X28: 0 | Y28: =((($X$7/12)*$X$4)*325851)/(365*1440) -> 3.4872753 | Z28: 50 | AA28: =AA27 -> 6.6129072 | AB28: 0 | AC28: =((($AB$7/12)*$AB$4)*325851)/(365*1440) -> 8.1240598 | AD28: =AD27 -> 0 | AE28: =((($AD$7/12)*$AD$4)*325851)/(365*1440) -> 10.216425 | AH28: UF/RO Treatment | AI28: =F28+I28+K28+AA28+AC28+Q28+M28+G28+H28 -> 475.05006 | AJ28: =O28+AE28+U28+W28+Y28+(S28*(59/193)) -> 16.77896 | AK28: =C28+E28 -> 577.69352 | AL28: =(SUM($D$4:$AE$4)-$I$4)-(D28+L28+J28+N28+P28+R28+T28+V28+X28+Z28+AB28+AD28) -> 3900 | AM28: =G28+I28+K28+M28+O28+Q28+U28+W28+Y28+AA28+AC28+AE28+H28+(S28*(59/193)) -> 141.82902 | AN28: =C28+E28+F28 -> 927.69352
B29: =B28+1 -> 21 | C29: 44.201858 | D29: 0 | E29: 525 | F29: =368-G29 -> 350 | G29: 18 | H29: 8.65 | I29: =(($I$4*($I$5/12))*325851)/(365*1440) -> 80.304975 | J29: 0 | K29: =((J29*($J$5/12))*325851)/(365*1440) -> 0 | L29: 0 | M29: =((L29*($N$5/12))*325851)/(365*1440) -> 0 | N29: 0 | O29: =((N29*($N$5/12))*325851)/(365*1440) -> 0 | P29: 0 | Q29: =((($P$7/12)*$P$4)*325851)/(365*1440) -> 3.3581169 | R29: 0 | S29: =((($R$7/12)*$R$4)*325851)/(365*1440) -> 2.492756 | T29: 0 | U29: =((($T$7/12)*$T$4)*325851)/(365*1440) -> 1.2825423 | V29: 0 | W29: =((($V$7/12)*$V$4)*325851)/(365*1440) -> 1.0306836 | X29: 0 | Y29: =((($X$7/12)*$X$4)*325851)/(365*1440) -> 3.4872753 | Z29: 50 | AA29: =AA28 -> 6.6129072 | AB29: 0 | AC29: =((($AB$7/12)*$AB$4)*325851)/(365*1440) -> 8.1240598 | AD29: =AD28 -> 0 | AE29: =((($AD$7/12)*$AD$4)*325851)/(365*1440) -> 10.216425 | AH29: UF/RO Treatment | AI29: =F29+I29+K29+AA29+AC29+Q29+M29+G29+H29 -> 475.05006 | AJ29: =O29+AE29+U29+W29+Y29+(S29*(59/193)) -> 16.77896 | AK29: =C29+E29 -> 569.20186 | AL29: =(SUM($D$4:$AE$4)-$I$4)-(D29+L29+J29+N29+P29+R29+T29+V29+X29+Z29+AB29+AD29) -> 3969 | AM29: =G29+I29+K29+M29+O29+Q29+U29+W29+Y29+AA29+AC29+AE29+H29+(S29*(59/193)) -> 141.82902 | AN29: =C29+E29+F29 -> 919.20186
B30: =B29+1 -> 22 | C30: 42.86089 | D30: =D29 -> 0 | E30: 525 | F30: =368-G30 -> 350 | G30: 18 | H30: 8.65 | I30: =(($I$4*($I$5/12))*325851)/(365*1440) -> 80.304975 | J30: 0 | K30: =((J30*($J$5/12))*325851)/(365*1440) -> 0 | L30: 0 | M30: =((L30*($N$5/12))*325851)/(365*1440) -> 0 | N30: 0 | O30: =((N30*($N$5/12))*325851)/(365*1440) -> 0 | P30: 0 | Q30: =((($P$7/12)*$P$4)*325851)/(365*1440) -> 3.3581169 | R30: 0 | S30: =((($R$7/12)*$R$4)*325851)/(365*1440) -> 2.492756 | T30: 0 | U30: =((($T$7/12)*$T$4)*325851)/(365*1440) -> 1.2825423 | V30: 0 | W30: =((($V$7/12)*$V$4)*325851)/(365*1440) -> 1.0306836 | X30: 0 | Y30: =((($X$7/12)*$X$4)*325851)/(365*1440) -> 3.4872753 | Z30: 50 | AA30: =AA29 -> 6.6129072 | AB30: 0 | AC30: =((($AB$7/12)*$AB$4)*325851)/(365*1440) -> 8.1240598 | AD30: =AD29 -> 0 | AE30: =((($AD$7/12)*$AD$4)*325851)/(365*1440) -> 10.216425 | AH30: UF/RO Treatment | AI30: =F30+I30+K30+AA30+AC30+Q30+M30+G30+H30 -> 475.05006 | AJ30: =O30+AE30+U30+W30+Y30+(S30*(59/193)) -> 16.77896 | AK30: =C30+E30 -> 567.86089 | AL30: =(SUM($D$4:$AE$4)-$I$4)-(D30+L30+J30+N30+P30+R30+T30+V30+X30+Z30+AB30+AD30) -> 3969 | AM30: =G30+I30+K30+M30+O30+Q30+U30+W30+Y30+AA30+AC30+AE30+H30+(S30*(59/193)) -> 141.82902 | AN30: =C30+E30+F30 -> 917.86089
B31: =B30+1 -> 23 | C31: 41.581752 | D31: =D30 -> 0 | E31: 525 | F31: =368-G31 -> 350 | G31: 18 | H31: 8.65 | I31: =(($I$4*($I$5/12))*325851)/(365*1440) -> 80.304975 | J31: 0 | K31: =((J31*($J$5/12))*325851)/(365*1440) -> 0 | L31: 0 | M31: =((L31*($N$5/12))*325851)/(365*1440) -> 0 | N31: 0 | O31: =((N31*($N$5/12))*325851)/(365*1440) -> 0 | P31: 0 | Q31: =((($P$7/12)*$P$4)*325851)/(365*1440) -> 3.3581169 | R31: 0 | S31: =((($R$7/12)*$R$4)*325851)/(365*1440) -> 2.492756 | T31: 0 | U31: =((($T$7/12)*$T$4)*325851)/(365*1440) -> 1.2825423 | V31: 0 | W31: =((($V$7/12)*$V$4)*325851)/(365*1440) -> 1.0306836 | X31: 0 | Y31: =((($X$7/12)*$X$4)*325851)/(365*1440) -> 3.4872753 | Z31: 50 | AA31: =AA30 -> 6.6129072 | AB31: 0 | AC31: =((($AB$7/12)*$AB$4)*325851)/(365*1440) -> 8.1240598 | AD31: =AD30 -> 0 | AE31: =((($AD$7/12)*$AD$4)*325851)/(365*1440) -> 10.216425 | AH31: UF/RO Treatment | AI31: =F31+I31+K31+AA31+AC31+Q31+M31+G31+H31 -> 475.05006 | AJ31: =O31+AE31+U31+W31+Y31+(S31*(59/193)) -> 16.77896 | AK31: =C31+E31 -> 566.58175 | AL31: =(SUM($D$4:$AE$4)-$I$4)-(D31+L31+J31+N31+P31+R31+T31+V31+X31+Z31+AB31+AD31) -> 3969 | AM31: =G31+I31+K31+M31+O31+Q31+U31+W31+Y31+AA31+AC31+AE31+H31+(S31*(59/193)) -> 141.82902 | AN31: =C31+E31+F31 -> 916.58175
B32: =B31+1 -> 24 | C32: 40.347907 | D32: =D31 -> 0 | E32: 525 | F32: =368-G32 -> 350 | G32: 18 | H32: 8.65 | I32: =(($I$4*($I$5/12))*325851)/(365*1440) -> 80.304975 | J32: 0 | K32: =((J32*($J$5/12))*325851)/(365*1440) -> 0 | L32: 0 | M32: =((L32*($N$5/12))*325851)/(365*1440) -> 0 | N32: 0 | O32: =((N32*($N$5/12))*325851)/(365*1440) -> 0 | P32: 0 | Q32: =((($P$7/12)*$P$4)*325851)/(365*1440) -> 3.3581169 | R32: 0 | S32: =((($R$7/12)*$R$4)*325851)/(365*1440) -> 2.492756 | T32: 0 | U32: =((($T$7/12)*$T$4)*325851)/(365*1440) -> 1.2825423 | V32: 0 | W32: =((($V$7/12)*$V$4)*325851)/(365*1440) -> 1.0306836 | X32: 0 | Y32: =((($X$7/12)*$X$4)*325851)/(365*1440) -> 3.4872753 | Z32: 50 | AA32: =AA31 -> 6.6129072 | AB32: 0 | AC32: =((($AB$7/12)*$AB$4)*325851)/(365*1440) -> 8.1240598 | AD32: =AD31 -> 0 | AE32: =((($AD$7/12)*$AD$4)*325851)/(365*1440) -> 10.216425 | AH32: UF/RO Treatment | AI32: =F32+I32+K32+AA32+AC32+Q32+M32+G32+H32 -> 475.05006 | AJ32: =O32+AE32+U32+W32+Y32+(S32*(59/193)) -> 16.77896 | AK32: =C32+E32 -> 565.34791 | AL32: =(SUM($D$4:$AE$4)-$I$4)-(D32+L32+J32+N32+P32+R32+T32+V32+X32+Z32+AB32+AD32) -> 3969 | AM32: =G32+I32+K32+M32+O32+Q32+U32+W32+Y32+AA32+AC32+AE32+H32+(S32*(59/193)) -> 141.82902 | AN32: =C32+E32+F32 -> 915.34791
B33: =B32+1 -> 25 | C33: 39.149157 | D33: =D32 -> 0 | E33: 525 | F33: =368-G33 -> 350 | G33: 18 | H33: 8.65 | I33: =(($I$4*($I$5/12))*325851)/(365*1440) -> 80.304975 | J33: 0 | K33: =((J33*($J$5/12))*325851)/(365*1440) -> 0 | L33: 0 | M33: =((L33*($N$5/12))*325851)/(365*1440) -> 0 | N33: 0 | O33: =((N33*($N$5/12))*325851)/(365*1440) -> 0 | P33: 0 | Q33: =((($P$7/12)*$P$4)*325851)/(365*1440) -> 3.3581169 | R33: 0 | S33: =((($R$7/12)*$R$4)*325851)/(365*1440) -> 2.492756 | T33: 0 | U33: =((($T$7/12)*$T$4)*325851)/(365*1440) -> 1.2825423 | V33: 0 | W33: =((($V$7/12)*$V$4)*325851)/(365*1440) -> 1.0306836 | X33: 0 | Y33: =((($X$7/12)*$X$4)*325851)/(365*1440) -> 3.4872753 | Z33: 50 | AA33: =AA32 -> 6.6129072 | AB33: 0 | AC33: =((($AB$7/12)*$AB$4)*325851)/(365*1440) -> 8.1240598 | AD33: =AD32 -> 0 | AE33: =((($AD$7/12)*$AD$4)*325851)/(365*1440) -> 10.216425 | AH33: UF/RO Treatment | AI33: =F33+I33+K33+AA33+AC33+Q33+M33+G33+H33 -> 475.05006 | AJ33: =O33+AE33+U33+W33+Y33+(S33*(59/193)) -> 16.77896 | AK33: =C33+E33 -> 564.14916 | AL33: =(SUM($D$4:$AE$4)-$I$4)-(D33+L33+J33+N33+P33+R33+T33+V33+X33+Z33+AB33+AD33) -> 3969 | AM33: =G33+I33+K33+M33+O33+Q33+U33+W33+Y33+AA33+AC33+AE33+H33+(S33*(59/193)) -> 141.82902 | AN33: =C33+E33+F33 -> 914.14916
B34: =B33+1 -> 26 | C34: 37.977994 | D34: =D33 -> 0 | E34: 525 | F34: =368-G34 -> 350 | G34: 18 | H34: 8.65 | I34: =(($I$4*($I$5/12))*325851)/(365*1440) -> 80.304975 | J34: 0 | K34: =((J34*($J$5/12))*325851)/(365*1440) -> 0 | L34: 0 | M34: =((L34*($N$5/12))*325851)/(365*1440) -> 0 | N34: 0 | O34: =((N34*($N$5/12))*325851)/(365*1440) -> 0 | P34: 0 | Q34: =((($P$7/12)*$P$4)*325851)/(365*1440) -> 3.3581169 | R34: 0 | S34: =((($R$7/12)*$R$4)*325851)/(365*1440) -> 2.492756 | T34: 0 | U34: =((($T$7/12)*$T$4)*325851)/(365*1440) -> 1.2825423 | V34: 0 | W34: =((($V$7/12)*$V$4)*325851)/(365*1440) -> 1.0306836 | X34: 0 | Y34: =((($X$7/12)*$X$4)*325851)/(365*1440) -> 3.4872753 | Z34: 50 | AA34: =AA33 -> 6.6129072 | AB34: 0 | AC34: =((($AB$7/12)*$AB$4)*325851)/(365*1440) -> 8.1240598 | AD34: =AD33 -> 0 | AE34: =((($AD$7/12)*$AD$4)*325851)/(365*1440) -> 10.216425 | AH34: UF/RO Treatment | AI34: =F34+I34+K34+AA34+AC34+Q34+M34+G34+H34 -> 475.05006 | AJ34: =O34+AE34+U34+W34+Y34+(S34*(59/193)) -> 16.77896 | AK34: =C34+E34 -> 562.97799 | AL34: =(SUM($D$4:$AE$4)-$I$4)-(D34+L34+J34+N34+P34+R34+T34+V34+X34+Z34+AB34+AD34) -> 3969 | AM34: =G34+I34+K34+M34+O34+Q34+U34+W34+Y34+AA34+AC34+AE34+H34+(S34*(59/193)) -> 141.82902 | AN34: =C34+E34+F34 -> 912.97799
B35: =B34+1 -> 27 | C35: 36.826262 | D35: =D34 -> 0 | E35: =E34 -> 525 | F35: =368-G35 -> 350 | G35: 18 | H35: 8.65 | I35: =(($I$4*($I$5/12))*325851)/(365*1440) -> 80.304975 | J35: 0 | K35: =((J35*($J$5/12))*325851)/(365*1440) -> 0 | L35: 0 | M35: =((L35*($N$5/12))*325851)/(365*1440) -> 0 | N35: 0 | O35: =((N35*($N$5/12))*325851)/(365*1440) -> 0 | P35: 0 | Q35: =((($P$7/12)*$P$4)*325851)/(365*1440) -> 3.3581169 | R35: 0 | S35: =((($R$7/12)*$R$4)*325851)/(365*1440) -> 2.492756 | T35: 0 | U35: =((($T$7/12)*$T$4)*325851)/(365*1440) -> 1.2825423 | V35: 0 | W35: =((($V$7/12)*$V$4)*325851)/(365*1440) -> 1.0306836 | X35: 0 | Y35: =((($X$7/12)*$X$4)*325851)/(365*1440) -> 3.4872753 | Z35: 50 | AA35: =AA34 -> 6.6129072 | AB35: 0 | AC35: =((($AB$7/12)*$AB$4)*325851)/(365*1440) -> 8.1240598 | AD35: =AD34 -> 0 | AE35: =((($AD$7/12)*$AD$4)*325851)/(365*1440) -> 10.216425 | AH35: UF/RO Treatment | AI35: =F35+I35+K35+AA35+AC35+Q35+M35+G35+H35 -> 475.05006 | AJ35: =O35+AE35+U35+W35+Y35+(S35*(59/193)) -> 16.77896 | AK35: =C35+E35 -> 561.82626 | AL35: =(SUM($D$4:$AE$4)-$I$4)-(D35+L35+J35+N35+P35+R35+T35+V35+X35+Z35+AB35+AD35) -> 3969 | AM35: =G35+I35+K35+M35+O35+Q35+U35+W35+Y35+AA35+AC35+AE35+H35+(S35*(59/193)) -> 141.82902 | AN35: =C35+E35+F35 -> 911.82626
B36: =B35+1 -> 28 | C36: 35.688322 | D36: =D35 -> 0 | E36: =E35 -> 525 | F36: =368-G36 -> 350 | G36: 18 | H36: 8.65 | I36: =(($I$4*($I$5/12))*325851)/(365*1440) -> 80.304975 | J36: 0 | K36: =((J36*($J$5/12))*325851)/(365*1440) -> 0 | L36: 0 | M36: =((L36*($N$5/12))*325851)/(365*1440) -> 0 | N36: 0 | O36: =((N36*($N$5/12))*325851)/(365*1440) -> 0 | P36: 0 | Q36: =((($P$7/12)*$P$4)*325851)/(365*1440) -> 3.3581169 | R36: 0 | S36: =((($R$7/12)*$R$4)*325851)/(365*1440) -> 2.492756 | T36: 0 | U36: =((($T$7/12)*$T$4)*325851)/(365*1440) -> 1.2825423 | V36: 0 | W36: =((($V$7/12)*$V$4)*325851)/(365*1440) -> 1.0306836 | X36: 0 | Y36: =((($X$7/12)*$X$4)*325851)/(365*1440) -> 3.4872753 | Z36: 50 | AA36: =AA35 -> 6.6129072 | AB36: 0 | AC36: =((($AB$7/12)*$AB$4)*325851)/(365*1440) -> 8.1240598 | AD36: =AD35 -> 0 | AE36: =((($AD$7/12)*$AD$4)*325851)/(365*1440) -> 10.216425 | AH36: UF/RO Treatment | AI36: =F36+I36+K36+AA36+AC36+Q36+M36+G36+H36 -> 475.05006 | AJ36: =O36+AE36+U36+W36+Y36+(S36*(59/193)) -> 16.77896 | AK36: =C36+E36 -> 560.68832 | AL36: =(SUM($D$4:$AE$4)-$I$4)-(D36+L36+J36+N36+P36+R36+T36+V36+X36+Z36+AB36+AD36) -> 3969 | AM36: =G36+I36+K36+M36+O36+Q36+U36+W36+Y36+AA36+AC36+AE36+H36+(S36*(59/193)) -> 141.82902 | AN36: =C36+E36+F36 -> 910.68832
B37: =B36+1 -> 29 | C37: 34.563938 | D37: =D36 -> 0 | E37: =E36 -> 525 | F37: =368-G37 -> 350 | G37: 18 | H37: 8.65 | I37: =(($I$4*($I$5/12))*325851)/(365*1440) -> 80.304975 | J37: 0 | K37: =((J37*($J$5/12))*325851)/(365*1440) -> 0 | L37: 0 | M37: =((L37*($N$5/12))*325851)/(365*1440) -> 0 | N37: 0 | O37: =((N37*($N$5/12))*325851)/(365*1440) -> 0 | P37: 0 | Q37: =((($P$7/12)*$P$4)*325851)/(365*1440) -> 3.3581169 | R37: 0 | S37: =((($R$7/12)*$R$4)*325851)/(365*1440) -> 2.492756 | T37: 0 | U37: =((($T$7/12)*$T$4)*325851)/(365*1440) -> 1.2825423 | V37: 0 | W37: =((($V$7/12)*$V$4)*325851)/(365*1440) -> 1.0306836 | X37: 0 | Y37: =((($X$7/12)*$X$4)*325851)/(365*1440) -> 3.4872753 | Z37: 50 | AA37: =AA36 -> 6.6129072 | AB37: 0 | AC37: =((($AB$7/12)*$AB$4)*325851)/(365*1440) -> 8.1240598 | AD37: =AD36 -> 0 | AE37: =((($AD$7/12)*$AD$4)*325851)/(365*1440) -> 10.216425 | AH37: UF/RO Treatment | AI37: =F37+I37+K37+AA37+AC37+Q37+M37+G37+H37 -> 475.05006 | AJ37: =O37+AE37+U37+W37+Y37+(S37*(59/193)) -> 16.77896 | AK37: =C37+E37 -> 559.56394 | AL37: =(SUM($D$4:$AE$4)-$I$4)-(D37+L37+J37+N37+P37+R37+T37+V37+X37+Z37+AB37+AD37) -> 3969 | AM37: =G37+I37+K37+M37+O37+Q37+U37+W37+Y37+AA37+AC37+AE37+H37+(S37*(59/193)) -> 141.82902 | AN37: =C37+E37+F37 -> 909.56394
B38: =B37+1 -> 30 | C38: 33.454908 | D38: =D37 -> 0 | E38: =E37 -> 525 | F38: =368-G38 -> 350 | G38: 18 | H38: 8.65 | I38: =(($I$4*($I$5/12))*325851)/(365*1440) -> 80.304975 | J38: 0 | K38: =((J38*($J$5/12))*325851)/(365*1440) -> 0 | L38: 0 | M38: =((L38*($N$5/12))*325851)/(365*1440) -> 0 | N38: 0 | O38: =((N38*($N$5/12))*325851)/(365*1440) -> 0 | P38: 0 | Q38: =((($P$7/12)*$P$4)*325851)/(365*1440) -> 3.3581169 | R38: 0 | S38: =((($R$7/12)*$R$4)*325851)/(365*1440) -> 2.492756 | T38: 0 | U38: =((($T$7/12)*$T$4)*325851)/(365*1440) -> 1.2825423 | V38: 0 | W38: =((($V$7/12)*$V$4)*325851)/(365*1440) -> 1.0306836 | X38: 0 | Y38: =((($X$7/12)*$X$4)*325851)/(365*1440) -> 3.4872753 | Z38: 50 | AA38: =AA37 -> 6.6129072 | AB38: 0 | AC38: =((($AB$7/12)*$AB$4)*325851)/(365*1440) -> 8.1240598 | AD38: =AD37 -> 0 | AE38: =((($AD$7/12)*$AD$4)*325851)/(365*1440) -> 10.216425 | AH38: UF/RO Treatment | AI38: =F38+I38+K38+AA38+AC38+Q38+M38+G38+H38 -> 475.05006 | AJ38: =O38+AE38+U38+W38+Y38+(S38*(59/193)) -> 16.77896 | AK38: =C38+E38 -> 558.45491 | AL38: =(SUM($D$4:$AE$4)-$I$4)-(D38+L38+J38+N38+P38+R38+T38+V38+X38+Z38+AB38+AD38) -> 3969 | AM38: =G38+I38+K38+M38+O38+Q38+U38+W38+Y38+AA38+AC38+AE38+H38+(S38*(59/193)) -> 141.82902 | AN38: =C38+E38+F38 -> 908.45491
B39: =B38+1 -> 31 | C39: 32.361696 | D39: =D38 -> 0 | E39: =E38 -> 525 | F39: =368-G39 -> 350 | G39: 18 | H39: 8.65 | I39: =(($I$4*($I$5/12))*325851)/(365*1440) -> 80.304975 | J39: 0 | K39: =((J39*($J$5/12))*325851)/(365*1440) -> 0 | L39: 0 | M39: =((L39*($N$5/12))*325851)/(365*1440) -> 0 | N39: 0 | O39: =((N39*($N$5/12))*325851)/(365*1440) -> 0 | P39: 0 | Q39: =((($P$7/12)*$P$4)*325851)/(365*1440) -> 3.3581169 | R39: 0 | S39: =((($R$7/12)*$R$4)*325851)/(365*1440) -> 2.492756 | T39: 0 | U39: =((($T$7/12)*$T$4)*325851)/(365*1440) -> 1.2825423 | V39: 0 | W39: =((($V$7/12)*$V$4)*325851)/(365*1440) -> 1.0306836 | X39: 0 | Y39: =((($X$7/12)*$X$4)*325851)/(365*1440) -> 3.4872753 | Z39: 50 | AA39: =AA38 -> 6.6129072 | AB39: 0 | AC39: =((($AB$7/12)*$AB$4)*325851)/(365*1440) -> 8.1240598 | AD39: =AD38 -> 0 | AE39: =((($AD$7/12)*$AD$4)*325851)/(365*1440) -> 10.216425 | AH39: UF/RO Treatment | AI39: =F39+I39+K39+AA39+AC39+Q39+M39+G39+H39 -> 475.05006 | AJ39: =O39+AE39+U39+W39+Y39+(S39*(59/193)) -> 16.77896 | AK39: =C39+E39 -> 557.3617 | AL39: =(SUM($D$4:$AE$4)-$I$4)-(D39+L39+J39+N39+P39+R39+T39+V39+X39+Z39+AB39+AD39) -> 3969 | AM39: =G39+I39+K39+M39+O39+Q39+U39+W39+Y39+AA39+AC39+AE39+H39+(S39*(59/193)) -> 141.82902 | AN39: =C39+E39+F39 -> 907.3617
B40: =B39+1 -> 32 | C40: 31.286323 | D40: =D39 -> 0 | E40: =E39 -> 525 | F40: =368-G40 -> 350 | G40: 18 | H40: 8.65 | I40: =(($I$4*($I$5/12))*325851)/(365*1440) -> 80.304975 | J40: 0 | K40: =((J40*($J$5/12))*325851)/(365*1440) -> 0 | L40: 0 | M40: =((L40*($N$5/12))*325851)/(365*1440) -> 0 | N40: 0 | O40: =((N40*($N$5/12))*325851)/(365*1440) -> 0 | P40: 0 | Q40: =((($P$7/12)*$P$4)*325851)/(365*1440) -> 3.3581169 | R40: 0 | S40: =((($R$7/12)*$R$4)*325851)/(365*1440) -> 2.492756 | T40: 0 | U40: =((($T$7/12)*$T$4)*325851)/(365*1440) -> 1.2825423 | V40: 0 | W40: =((($V$7/12)*$V$4)*325851)/(365*1440) -> 1.0306836 | X40: 0 | Y40: =((($X$7/12)*$X$4)*325851)/(365*1440) -> 3.4872753 | Z40: 50 | AA40: =AA39 -> 6.6129072 | AB40: 0 | AC40: =((($AB$7/12)*$AB$4)*325851)/(365*1440) -> 8.1240598 | AD40: =AD39 -> 0 | AE40: =((($AD$7/12)*$AD$4)*325851)/(365*1440) -> 10.216425 | AH40: UF/RO Treatment | AI40: =F40+I40+K40+AA40+AC40+Q40+M40+G40+H40 -> 475.05006 | AJ40: =O40+AE40+U40+W40+Y40+(S40*(59/193)) -> 16.77896 | AK40: =C40+E40 -> 556.28632 | AL40: =(SUM($D$4:$AE$4)-$I$4)-(D40+L40+J40+N40+P40+R40+T40+V40+X40+Z40+AB40+AD40) -> 3969 | AM40: =G40+I40+K40+M40+O40+Q40+U40+W40+Y40+AA40+AC40+AE40+H40+(S40*(59/193)) -> 141.82902 | AN40: =C40+E40+F40 -> 906.28632
B41: =B40+1 -> 33 | C41: 30.235022 | D41: =D40 -> 0 | E41: =E40 -> 525 | F41: =368-G41 -> 350 | G41: 18 | H41: 8.65 | I41: =(($I$4*($I$5/12))*325851)/(365*1440) -> 80.304975 | J41: 0 | K41: =((J41*($J$5/12))*325851)/(365*1440) -> 0 | L41: 0 | M41: =((L41*($N$5/12))*325851)/(365*1440) -> 0 | N41: 0 | O41: =((N41*($N$5/12))*325851)/(365*1440) -> 0 | P41: 0 | Q41: =((($P$7/12)*$P$4)*325851)/(365*1440) -> 3.3581169 | R41: 0 | S41: =((($R$7/12)*$R$4)*325851)/(365*1440) -> 2.492756 | T41: 0 | U41: =((($T$7/12)*$T$4)*325851)/(365*1440) -> 1.2825423 | V41: 0 | W41: =((($V$7/12)*$V$4)*325851)/(365*1440) -> 1.0306836 | X41: 0 | Y41: =((($X$7/12)*$X$4)*325851)/(365*1440) -> 3.4872753 | Z41: 50 | AA41: =AA40 -> 6.6129072 | AB41: 0 | AC41: =((($AB$7/12)*$AB$4)*325851)/(365*1440) -> 8.1240598 | AD41: =AD40 -> 0 | AE41: =((($AD$7/12)*$AD$4)*325851)/(365*1440) -> 10.216425 | AH41: UF/RO Treatment | AI41: =F41+I41+K41+AA41+AC41+Q41+M41+G41+H41 -> 475.05006 | AJ41: =O41+AE41+U41+W41+Y41+(S41*(59/193)) -> 16.77896 | AK41: =C41+E41 -> 555.23502 | AL41: =(SUM($D$4:$AE$4)-$I$4)-(D41+L41+J41+N41+P41+R41+T41+V41+X41+Z41+AB41+AD41) -> 3969 | AM41: =G41+I41+K41+M41+O41+Q41+U41+W41+Y41+AA41+AC41+AE41+H41+(S41*(59/193)) -> 141.82902 | AN41: =C41+E41+F41 -> 905.23502
...

Sheet Table 3 Water Quality
B2: Mine Area | C2: Source | D2: Sulfate | E2: Total Dissolved Solids | F2: Source
D3: (mg/L) | E3: (mg/L) | F3: Data
B4: SMA Flows | C4: Continental Mine | D4: 1450 | E4: 2186 | F4: 2023 sampling, average of 9 wells and pond
C5: Tailings Pond 7 Interceptor Wells | D5: 1450 | E5: 2186 | F5: 2023 sampling, average of 9 wells and pond
B6: NMA Facilities | C6: Ivanhoe Concentrator Runoff | D6: 1600 | E6: 2400 | F6: Estimated based of gypsum equilibrium
C7: Chino Main Office Buildings Runoff | D7: 1600 | E7: 2400 | F7: Estimated based of gypsum equilibrium
C8: SX/EW Runoff | D8: 1600 | E8: 2400 | F8: Estimated based of gypsum equilibrium
B9: NMA Interceptor Wells and Pit | C9: Princess, Oswaldo, and Interceptor Wells | D9: 1571 | E9: 2402 | F9: 2006 and 2019 sampling respectively, average
C10: West Stockpile Interceptor Wells | D10: 1571 | E10: 2402 | F10: Used Princess and Oswaldo intercept water quality
C11: Kessel Interceptor Wells | D11: 50 | E11: 583 | F11: 2025 Sampling, Average of Wells located around Kessel Area
C12: Santa Rita Pit Groundwater Inflow | D12: 1571 | E12: 2402 | F12: Used Princess and Oswaldo intercept water quality
B13: =B9+1 -> #VALUE! | C13: Santa Rita Pit Runoff | D13: 34500 | E13: 47950 | F13: 2023 sampling, average of Res 2A and 4A
B14: NMA Waste Rock Stockpile Runoff | C14: West Side of West Stockpile Runoff | D14: 34500 | E14: 47950 | F14: 2023 sampling, average of Res 2A and 4A
C15: 3A Waste Rock Stockpile Runoff | D15: 34500 | E15: 47950 | F15: 2023 sampling, average of Res 2A and 4A
C16: Northeast Waste Rock Pile Runoff | D16: 34500 | E16: 47950 | F16: 2023 sampling, average of Res 2A and 4A
C17: Southwest Lampbright Waste Rock Pile Runoff | D17: 34500 | E17: 47950 | F17: 2023 sampling, average of Res 2A and 4A
C18: Kessel Stockpile Runoff | D18: 34500 | E18: 47950 | F18: 2023 sampling, average of Res 2A and 4A
B19: NMA Stockpile Seepage | C19: East Side of West Leach Stockpile Seepage | D19: 148000 | E19: 199667 | F19: 2023 sampling, average of 526 Raff and PLS tanks, and Res 8
C20: South Leach Stockpile Seepage | D20: 148000 | E20: 199667 | F20: 2023 sampling, average of 526 Raff and PLS tanks, and Res 8
C21: North, Main, and South Lampbright Leach Stockpile Seepage | D21: 148000 | E21: 199667 | F21: 2023 sampling, average of 526 Raff and PLS tanks, and Res 8

Sheet Table 4 Evaporation
B2: Yearly Evaporation (inches/year) | C2: 46.83 | D2: EOY 0 | E2: Year 1 | F2: Year 2 | G2: Year 3 | H2: Year 4 | I2: Year 5
B3: Location | C3: Max. Surface Area for Evaporation | D3: Starting Volumes | E3: Volumes Remaining After Year 1 | F3: Volumes Remaining After Year 2 | G3: Volumes Remaining After Year 3 | H3: Volumes Remaining After Year 4 | I3: Volumes Remaining After Year 5
C4: (acres) | D4: (gallons) | E4: (gallons) | F4: (gallons) | G4: (gallons) | H4: (gallons) | I4: (gallons)
B5: ='Table 1 Water Stored'!B4 -> East Pit | D5: ='Table 1 Water Stored'!C4 -> 740204439 | E5: 0 | F5: =E5 -> 0 | G5: =F5 -> 0 | H5: =G5 -> 0 | I5: =H5 -> 0
B6: ='Table 1 Water Stored'!B5 -> Estrella Pit | D6: ='Table 1 Water Stored'!C5 -> 363542840 | E6: 0 | F6: =E6 -> 0 | G6: =F6 -> 0 | H6: =G6 -> 0 | I6: =H6 -> 0
B7: ='Table 1 Water Stored'!B6 -> Lee Hill Pit | D7: ='Table 1 Water Stored'!C6 -> 0 | E7: 0 | F7: =E7 -> 0 | G7: =F7 -> 0 | H7: =G7 -> 0 | I7: =H7 -> 0
B8: ='Table 1 Water Stored'!B7 -> Reservoir 9 | D8: ='Table 1 Water Stored'!C7 -> 2737148 | E8: 0 | F8: =E8 -> 0 | G8: =F8 -> 0 | H8: =G8 -> 0 | I8: =H8 -> 0
B9: ='Table 1 Water Stored'!B8 -> Reservoir 4a (Overflow Pond) | D9: ='Table 1 Water Stored'!C8 -> 1368574 | E9: 0 | F9: =E9 -> 0 | G9: =F9 -> 0 | H9: =G9 -> 0 | I9: =H9 -> 0
B10: ='Table 1 Water Stored'!B9 -> Reservoir 2 (Overflow Pond) | D10: ='Table 1 Water Stored'!C9 -> 684287 | E10: 0 | F10: =E10 -> 0 | G10: =F10 -> 0 | H10: =G10 -> 0 | I10: =H10 -> 0
B11: ='Table 1 Water Stored'!B10 -> Reservoir 17 | D11: ='Table 1 Water Stored'!C10 -> 9149896 | E11: 0 | F11: =E11 -> 0 | G11: =F11 -> 0 | H11: =G11 -> 0 | I11: =H11 -> 0
B12: ='Table 1 Water Stored'!B11 -> Fleming Pond 2 | D12: ='Table 1 Water Stored'!C11 -> 5040000 | E12: 0 | F12: =E12 -> 0 | G12: =F12 -> 0 | H12: =G12 -> 0 | I12: =H12 -> 0
B13: ='Table 1 Water Stored'!B12 -> Frog Pond | D13: ='Table 1 Water Stored'!C12 -> 1500000 | E13: 0 | F13: =E13 -> 0 | G13: =F13 -> 0 | H13: =G13 -> 0 | I13: =H13 -> 0
B14: ='Table 1 Water Stored'!B13 -> PLS Tank at Ivanhoe Concentrator | D14: ='Table 1 Water Stored'!C13 -> 300000 | E14: 0 | F14: =E14 -> 0 | G14: =F14 -> 0 | H14: =G14 -> 0 | I14: =H14 -> 0
B15: ='Table 1 Water Stored'!B14 -> 5900 PLS Sump | D15: ='Table 1 Water Stored'!C14 -> 299131 | E15: 0 | F15: =E15 -> 0 | G15: =F15 -> 0 | H15: =G15 -> 0 | I15: =H15 -> 0
B16: ='Table 1 Water Stored'!B15 -> Lee Hill Sump #1 | D16: ='Table 1 Water Stored'!C15 -> 60000 | E16: 0 | F16: =E16 -> 0 | G16: =F16 -> 0 | H16: =G16 -> 0 | I16: =H16 -> 0
... B21: ='Table 1 Water Stored'!B20 -> Reservoir 6 | D21: ='Table 1 Water Stored'!C20 -> 54580043 | E21: 0 | F21: =E21 -> 0 | G21: =F21 -> 0 | H21: =G21 -> 0 | I21: =H21 -> 0
B22: ='Table 1 Water Stored'!B21 -> Reservoir 7 | D22: ='Table 1 Water Stored'!C21 -> 63201939 | E22: =D22-E45 -> 3000954.4 | F22: 0 | G22: =F22 -> 0 | H22: 0 | I22: 0
B23: ='Table 1 Water Stored'!B22 -> Reservoir 8 | D23: ='Table 1 Water Stored'!C22 -> 1955106 | E23: =D23 -> 1955106 | F23: 0 | G23: =F23 -> 0 | H23: 0 | I23: 0
B24: ='Table 1 Water Stored'!B23 -> SX/EW PLS Feed Pond | D24: ='Table 1 Water Stored'!C23 -> 1260000 | E24: =D24 -> 1260000 | F24: 0 | G24: =F24 -> 0 | H24: 0 | I24: 0
B25: ='Table 1 Water Stored'!B24 -> SX/EW Raffinate Pond | D25: ='Table 1 Water Stored'!C24 -> 1824765.6 | E25: =D25 -> 1824765.6 | F25: 0 | G25: =F25 -> 0 | H25: 0 | I25: 0
B26: ='Table 1 Water Stored'!B25 -> SX/EW Raffinate Tank | D26: ='Table 1 Water Stored'!C25 -> 900000 | E26: =D26 -> 900000 | F26: 0 | G26: =F26 -> 0 | H26: 0 | I26: 0
B27: ='Table 1 Water Stored'!B26 -> East Headwall Impoundment | D27: ='Table 1 Water Stored'!C26 -> 273714.84 | E27: =D27 -> 273714.84 | F27: 0 | G27: =F27 -> 0 | H27: 0 | I27: 0
B28: ='Table 1 Water Stored'!B27 -> East Lampbright Sumps | D28: ='Table 1 Water Stored'!C27 -> 1200000 | E28: =D28 -> 1200000 | F28: 0 | G28: =F28 -> 0 | H28: 0 | I28: 0
B29: ='Table 1 Water Stored'!B28 -> LFES SS PLS Tank | D29: ='Table 1 Water Stored'!C28 -> 185923 | E29: =D29 -> 185923 | F29: 0 | G29: =F29 -> 0 | H29: 0 | I29: 0
B30: ='Table 1 Water Stored'!B29 -> Lampbright Stockpile | D30: ='Table 1 Water Stored'!C29 -> 350600000 | E30: =D30 -> 350600000 | F30: 0 | G30: =F30 -> 0 | H30: 0 | I30: 0
B31: Evaporation Stockpiles (South and Lampbright Stockpiles) | C31: 1414
B33: Total | C33: =C31 -> 1414 | D33: =SUM(D5:D31) -> 1.7284615e+09 | E33: =SUM(E5:E31) -> 3.6120046e+08 | F33: =SUM(F5:F31) -> 0 | G33: =SUM(G5:G31) -> 0 | H33: =SUM(H5:H31) -> 0 | I33: =SUM(I5:I31) -> 0
B34: Volume Added From Stormwater and Interceptor Pits/Wells | E34: =('Table 2 StormwaterGroundwater'!AJ9+'Table 2 StormwaterGroundwater'!AI9)*1440*365 -> 4.3082876e+08 | F34: =('Table 2 StormwaterGroundwater'!AJ10+'Table 2 StormwaterGroundwater'!AI10)*1440*365 -> 4.1692578e+08 | G34: =('Table 2 StormwaterGroundwater'!AJ11+'Table 2 StormwaterGroundwater'!AI11)*1440*365 -> 4.030228e+08 | H34: =('Table 2 StormwaterGroundwater'!AJ12+'Table 2 StormwaterGroundwater'!AI12)*1440*365 -> 3.8911983e+08 | I34: =('Table 2 StormwaterGroundwater'!AJ13+'Table 2 StormwaterGroundwater'!AI13)*1440*365 -> 3.7521685e+08
B35: Stockpile Acreage Modifier | E35: 1 | F35: 0.4327516 | G35: 0.22413942 | H35: 0.21640734 | I35: 0.20867526
B36: Evaporation Potential in Stockpiles w/ Acreage Modifier | E36: =((($C$2/12)*$C$31*325851*E35)) -> 1.7980898e+09 | F36: =((($C$2/12)*$C$31*325851*F35)) -> 7.7812624e+08 | G36: =((($C$2/12)*$C$31*325851*G35)) -> 403022803 | H36: =((($C$2/12)*$C$31*325851*H35)) -> 389119827 | I36: =((($C$2/12)*$C$31*325851*I35)) -> 3.7521685e+08
B37: Tailings Pond 7 | C37: 1169 | D37: ='Table 1 Water Stored'!C34 -> 1.6149176e+08 | E37: 0 | F37: 0 | G37: 0 | H37: 0 | I37: 0
B38: Volume Added From Continental Mine & Tailings 7 Interceptor Wells | E38: =('Table 2 StormwaterGroundwater'!C9+'Table 2 StormwaterGroundwater'!E9)*1440*365 -> 8.0391971e+08 | F38: =('Table 2 StormwaterGroundwater'!C10+'Table 2 StormwaterGroundwater'!E10)*1440*365 -> 7.6707059e+08 | G38: =('Table 2 StormwaterGroundwater'!C11+'Table 2 StormwaterGroundwater'!E11)*1440*365 -> 7.3215596e+08 | H38: =('Table 2 StormwaterGroundwater'!C12+'Table 2 StormwaterGroundwater'!E12)*1440*365 -> 6.9659281e+08 | I38: =('Table 2 StormwaterGroundwater'!C13+'Table 2 StormwaterGroundwater'!E13)*1440*365 -> 6.5996758e+08
B39: Pond 7 Acreage Modifier | E39: 0.64943542 | F39: 0.42660305 | G39: 0.40718542 | H39: 0.38740713 | I39: 0.36703816
B40: Evaporation Potential on Tailings Pond 7 with Acreage Modifier | E40: =((($C$2/12)*$C$37*325851*E39)) -> 9.6541146e+08 | F40: =((($C$2/12)*$C$31*325851*F39)) -> 7.6707059e+08 | G40: =((($C$2/12)*$C$31*325851*G39)) -> 7.3215596e+08 | H40: =((($C$2/12)*$C$31*325851*H39)) -> 6.9659281e+08 | I40: =((($C$2/12)*$C$31*325851*I39)) -> 6.5996758e+08
E45: 60200985

Sheet Table 5 Flows to Evap & WTP
C2: North Mine Area | L2: South Mine Area
C3: Evaporation System Water Loss | G3: Interceptor Wells, Runoff and Seepage Flow Rates | K3: Water Treatment Plant Influent | L3: Evaporation Water Loss | M3: Interceptor Wells and Continental Mine Flow Rates
C4: Stockpile Evaporation System Water Loss | D4: Interceptor Wells, Run-off, and Seepage Included in Stockpile Evaporation System Water Loss | E4: Santa Rita Pit Enhanced Evaporation System Water Loss (wtih Brine/Backwash) | F4: Santa Rita Pit Sprayers Required (Ave/yr) | G4: NMA Interceptor Wells Flows (Lampbright, Princess Shaft, Oswaldo Shaft, 6 other Wells TBD) | H4: Pit and Facilities Runoff Existing Groundwater Interceptors | I4: Waste Rock Piles Runoff/Seepage | J4: Leach Stockpile Runoff/Seepage | K4: Treatment System Flow Rate | L4: Tailings Pond 7 Evaporation Water Loss | M4: Tailing Pond 7 Interceptor Well Flows | N4: Continental Mine Flows
B5: Year | C5: (gpm) | D5: (gpm) | E5: (gpm) | F5: (unit) | G5: (gpm) | H5: (gpm) | I5: (gpm) | J5: (gpm) | K5: (gpm) | L5: (gpm) | M5: (gpm) | N5: (gpm)
